Workbook

Sheet Vehicles
A1: #NF-VEHICLE-NAME | B1: #NF-VEHICLE-TYPE | C1: #NF-VEHICLE-INFO1 | D1: #NF-VEHICLE-CAPACITY1 | E1: #NF-VEHICLE-CAPACITY2 | F1: #NF-VEHICLE-CAPACITY3 | G1: #NF-VEHICLE-MAP-SOURCE | H1: #NF-VEHICLE-SPEED-PROFILE | I1: #NF-VEHICLE-SPEED-FACTOR | J1: #NF-VEHICLE-SERVICE-SPEED-FACTOR | K1: #NF-VEHICLE-FIXEDCOST | L1: #NF-VEHICLE-KILOMETERCOST | M1: #NF-VEHICLE-HOURCOST | N1: #NF-VEHICLE-MAX-DRIVING-TIME | O1: #NF-VEHICLE-MAX-WORKING-TIME | P1: #NF-VEHICLE-PICKUP-ADDRESS | Q1: #NF-VEHICLE-PICKUP-POSTALCODE | R1: #NF-VEHICLE-PICKUP-CITY | S1: #NF-VEHICLE-PICKUP-COUNTRY | T1: #NF-VEHICLE-PICKUP-LATITUDE | U1: #NF-VEHICLE-PICKUP-LONGITUDE | V1: #NF-VEHICLE-DELIVERY-ADDRESS | W1: #NF-VEHICLE-DELIVERY-POSTALCODE | X1: #NF-VEHICLE-DELIVERY-CITY | Y1: #NF-VEHICLE-DELIVERY-COUNTRY | Z1: #NF-VEHICLE-DELIVERY-LATITUDE | AA1: #NF-VEHICLE-DELIVERY-LONGITUDE | AB1: #NF-VEHICLE-TIMEWINDOWSTART | AC1: #NF-VEHICLE-TIMEWINDOWEND | AD1: #NF-VEHICLE-ACTIVITY-STATE | AE1: #NF-VEHICLE-RELOCATE | AF1: #NF-VEHICLE-SCHEDULING | AG1: #NF-VEHICLE-PICKUP-CONFIDENCE | AH1: #NF-VEHICLE-DELIVERY-CONFIDENCE | AI1: #NF-VEHICLE-CHANGES | AJ1: #NF-VEHICLE-PICKUP-RESOLUTION | AK1: #NF-VEHICLE-DELIVERY-RESOLUTION
P2: =INDIRECT("Kieli!"&Kieli!$B$1&8) -> Pickup | V2: =INDIRECT("Kieli!"&Kieli!$B$1&9) -> Delivery | AB2: =INDIRECT("Kieli!"&Kieli!$B$1&26) -> Vehicle availability
A3: =INDIRECT("Kieli!"&Kieli!$B$1&19) -> Vehicle name / registration number | B3: =INDIRECT("Kieli!"&Kieli!$B$1&20) -> Type of vehicle | C3: Info 1 | D3: =INDIRECT("Kieli!"&Kieli!$B$1&21) -> Capacity 1 | E3: =INDIRECT("Kieli!"&Kieli!$B$1&22) -> Capacity 2 | F3: =INDIRECT("Kieli!"&Kieli!$B$1&23) -> Capacity 3 | G3: Map data source | H3: =INDIRECT("Kieli!"&Kieli!$B$1&50) -> Speed profile | I3: =INDIRECT("Kieli!"&Kieli!$B$1&49) -> Speed coefficient | J3: Service speed coefficient | K3: =INDIRECT("Kieli!"&Kieli!$B$1&42) -> Fixed cost (€) | L3: =INDIRECT("Kieli!"&Kieli!$B$1&43) -> Cost € / km | M3: =INDIRECT("Kieli!"&Kieli!$B$1&44) -> Cost € / hour | N3: =INDIRECT("Kieli!"&Kieli!$B$1&46) -> Maximal driving time (h) | O3: =INDIRECT("Kieli!"&Kieli!$B$1&47) -> Maximal working time (h) | P3: =INDIRECT("Kieli!"&Kieli!$B$1&10) -> Address | Q3: =INDIRECT("Kieli!"&Kieli!$B$1&11) -> Postal code | R3: =INDIRECT("Kieli!"&Kieli!$B$1&12) -> City | S3: =INDIRECT("Kieli!"&Kieli!$B$1&27) -> Country | T3: =INDIRECT("Kieli!"&Kieli!$B$1&13) -> Coordinate (Latitude (N-S)) | U3: =INDIRECT("Kieli!"&Kieli!$B$1&14) -> Coordinate (Longitude (W-E)) | V3: =INDIRECT("Kieli!"&Kieli!$B$1&10) -> Address | W3: =INDIRECT("Kieli!"&Kieli!$B$1&11) -> Postal code | X3: =INDIRECT("Kieli!"&Kieli!$B$1&12) -> City | Y3: =INDIRECT("Kieli!"&Kieli!$B$1&27) -> Country | Z3: =INDIRECT("Kieli!"&Kieli!$B$1&13) -> Coordinate (Latitude (N-S)) | AA3: =INDIRECT("Kieli!"&Kieli!$B$1&14) -> Coordinate (Longitude (W-E)) | AB3: =INDIRECT("Kieli!"&Kieli!$B$1&16) -> Start of time window | AC3: =INDIRECT("Kieli!"&Kieli!$B$1&17) -> End of time window | AD3: Activity state | AE3: =INDIRECT("Kieli!"&Kieli!$B$1&51) -> Can be relocated? | AF3: Scheduling | AG3: Pickup confidence | AH3: Delivery confidence | AI3: Changed columns | AJ3: Pickup resolution | AK3: Delivery resolution

Sheet Tasks
A1: #NF-TASK-ID | B1: #NF-TASK-INFO1 | C1: #NF-TASK-INFO2 | D1: #NF-TASK-INFO3 | E1: #NF-TASK-INFO4 | F1: #NF-TASK-CAPACITY1 | G1: #NF-TASK-CAPACITY2 | H1: #NF-TASK-CAPACITY3 | I1: #NF-TASK-PROFIT | J1: #NF-TASK-PICKUP-ADDRESS | K1: #NF-TASK-PICKUP-POSTALCODE | L1: #NF-TASK-PICKUP-CITY | M1: #NF-TASK-PICKUP-COUNTRY | N1: #NF-TASK-PICKUP-LATITUDE | O1: #NF-TASK-PICKUP-LONGITUDE | P1: #NF-TASK-PICKUP-SERVICETIME | Q1: #NF-TASK-PICKUP-STOPPINGTIME | R1: #NF-TASK-PICKUP-TIMEWINDOWSTART | S1: #NF-TASK-PICKUP-TIMEWINDOWEND | T1: #NF-TASK-PICKUP-CAPACITY1 | U1: #NF-TASK-PICKUP-CAPACITY2 | V1: #NF-TASK-PICKUP-CAPACITY3 | W1: #NF-TASK-DELIVERY-ADDRESS | X1: #NF-TASK-DELIVERY-POSTALCODE | Y1: #NF-TASK-DELIVERY-CITY | Z1: #NF-TASK-DELIVERY-COUNTRY | AA1: #NF-TASK-DELIVERY-LATITUDE | AB1: #NF-TASK-DELIVERY-LONGITUDE | AC1: #NF-TASK-DELIVERY-SERVICETIME | AD1: #NF-TASK-DELIVERY-STOPPINGTIME | AE1: #NF-TASK-DELIVERY-TIMEWINDOWSTART | AF1: #NF-TASK-DELIVERY-TIMEWINDOWEND | AG1: #NF-TASK-DELIVERY-CAPACITY1 | AH1: #NF-TASK-DELIVERY-CAPACITY2 | AI1: #NF-TASK-DELIVERY-CAPACITY3 | AJ1: #NF-TASK-INCOMPATIBILITIES | AK1: #NF-TASK-COMPATIBILITIES | AL1: #NF-TASK-DEPOT-INCOMPATIBILITIES | AM1: #NF-TASK-DEPOT-COMPATIBILITIES | AN1: #NF-TASK-ACTIVITY-STATE | AO1: #NF-TASK-RELOCATE | AP1: #NF-TASK-PICKUP-DESTINATION-TYPE | AQ1: #NF-TASK-DELIVERY-DESTINATION-TYPE | AR1: #NF-TASK-PICKUP-STYLE | AS1: #NF-TASK-DELIVERY-STYLE | AT1: #NF-TASK-VEHICLEID | AU1: #NF-TASK-PICKUP-SEQUENCENUMBER | AV1: #NF-TASK-DELIVERY-SEQUENCENUMBER | AW1: #NF-TASK-ISLOCKED | AX1: #NF-TASK-PICKUP-ACTUALTIME | AY1: #NF-TASK-DELIVERY-ACTUALTIME | AZ1: #NF-TASK-PICKUP-CONFIDENCE | BA1: #NF-TASK-DELIVERY-CONFIDENCE | BB1: #NF-TASK-CHANGES | BC1: #NF-TASK-PICKUP-RESOLUTION | BD1: #NF-TASK-DELIVERY-RESOLUTION
J2: =INDIRECT("Kieli!"&Kieli!$B$1&8) -> Pickup | W2: =INDIRECT("Kieli!"&Kieli!$B$1&9) -> Delivery
A3: =INDIRECT("Kieli!"&Kieli!$B$1&4) -> Order ID / description | B3: Info 1 | C3: Info 2 | D3: Info 3 | E3: Info 4 | F3: =INDIRECT("Kieli!"&Kieli!$B$1&5) -> Amount (in units of capacity 1) | G3: =INDIRECT("Kieli!"&Kieli!$B$1&6) -> Amount (in units of capacity 2) | H3: =INDIRECT("Kieli!"&Kieli!$B$1&7) -> Amount (in units of capacity 3) | I3: =INDIRECT("Kieli!"&Kieli!$B$1&45) -> Task priority | J3: =INDIRECT("Kieli!"&Kieli!$B$1&10) -> Address | K3: =INDIRECT("Kieli!"&Kieli!$B$1&11) -> Postal code | L3: =INDIRECT("Kieli!"&Kieli!$B$1&12) -> City | M3: =INDIRECT("Kieli!"&Kieli!$B$1&27) -> Country | N3: =INDIRECT("Kieli!"&Kieli!$B$1&13) -> Coordinate (Latitude (N-S)) | O3: =INDIRECT("Kieli!"&Kieli!$B$1&14) -> Coordinate (Longitude (W-E)) | P3: =INDIRECT("Kieli!"&Kieli!$B$1&15) -> Service time (in minutes) | Q3: =INDIRECT("Kieli!"&Kieli!$B$1&41) -> Stopping time (in minutes) | R3: =INDIRECT("Kieli!"&Kieli!$B$1&16) -> Start of time window | S3: =INDIRECT("Kieli!"&Kieli!$B$1&17) -> End of time window | T3: Pickup capacity 1 change | U3: Pickup capacity 2 change | V3: Pickup capacity 3 change | W3: =INDIRECT("Kieli!"&Kieli!$B$1&10) -> Address | X3: =INDIRECT("Kieli!"&Kieli!$B$1&11) -> Postal code | Y3: =INDIRECT("Kieli!"&Kieli!$B$1&12) -> City | Z3: =INDIRECT("Kieli!"&Kieli!$B$1&27) -> Country | AA3: =INDIRECT("Kieli!"&Kieli!$B$1&13) -> Coordinate (Latitude (N-S)) | AB3: =INDIRECT("Kieli!"&Kieli!$B$1&14) -> Coordinate (Longitude (W-E)) | AC3: =INDIRECT("Kieli!"&Kieli!$B$1&15) -> Service time (in minutes) | AD3: =INDIRECT("Kieli!"&Kieli!$B$1&41) -> Stopping time (in minutes) | AE3: =INDIRECT("Kieli!"&Kieli!$B$1&16) -> Start of time window | AF3: =INDIRECT("Kieli!"&Kieli!$B$1&17) -> End of time window | AG3: Delivery capacity 1 change | AH3: Delivery capacity 2 change | AI3: Delivery capacity 3 change | AJ3: =INDIRECT("Kieli!"&Kieli!$B$1&18) -> Incompatible vehicle types | AK3: =INDIRECT("Kieli!"&Kieli!$B$1&48) -> Compatible vehicle types | AL3: Incompatible depot types | AM3: Compatible depot types | AN3: Activity state | AO3: =INDIRECT("Kieli!"&Kieli!$B$1&51) -> Can be relocated? | AP3: Pickup destination type | AQ3: Delivery destination type | AR3: Pickup style | AS3: Delivery style | AT3: =INDIRECT("Kieli!"&Kieli!$B$1&35) -> Vehicle Id | AU3: =INDIRECT("Kieli!"&Kieli!$B$1&36) -> Sequence number of pickup | AV3: =INDIRECT("Kieli!"&Kieli!$B$1&37) -> Sequence number of delivery | AW3: =INDIRECT("Kieli!"&Kieli!$B$1&38) -> Is locked? | AX3: =INDIRECT("Kieli!"&Kieli!$B$1&39) -> Actual time of pickup | AY3: =INDIRECT("Kieli!"&Kieli!$B$1&40) -> Actual time of delivery | AZ3: Pickup confidence | BA3: Delivery confidence | BB3: Changed columns | BC3: Pickup resolution | BD3: Delivery resolution

Sheet Depots
A1: #NF-DEPOT-NAME | B1: #NF-DEPOT-TYPE | C1: #NF-DEPOT-INFO1 | D1: #NF-DEPOT-CAPACITY1 | E1: #NF-DEPOT-CAPACITY2 | F1: #NF-DEPOT-CAPACITY3 | G1: #NF-DEPOT-STOPPINGTIME | H1: #NF-DEPOT-ADDRESS | I1: #NF-DEPOT-POSTALCODE | J1: #NF-DEPOT-CITY | K1: #NF-DEPOT-COUNTRY | L1: #NF-DEPOT-LATITUDE | M1: #NF-DEPOT-LONGITUDE | N1: #NF-DEPOT-CONFIDENCE | O1: #NF-DEPOT-CHANGED-COLUMNS | P1: #NF-DEPOT-RESOLUTION
A3: Depot name | B3: Type of depot | C3: Info 1 | D3: =INDIRECT("Kieli!"&Kieli!$B$1&21) -> Capacity 1 | E3: =INDIRECT("Kieli!"&Kieli!$B$1&22) -> Capacity 2 | F3: =INDIRECT("Kieli!"&Kieli!$B$1&23) -> Capacity 3 | G3: Stopping time (in minutes) | H3: =INDIRECT("Kieli!"&Kieli!$B$1&10) -> Address | I3: =INDIRECT("Kieli!"&Kieli!$B$1&11) -> Postal code | J3: =INDIRECT("Kieli!"&Kieli!$B$1&12) -> City | K3: =INDIRECT("Kieli!"&Kieli!$B$1&27) -> Country | L3: =INDIRECT("Kieli!"&Kieli!$B$1&13) -> Coordinate (Latitude (N-S)) | M3: =INDIRECT("Kieli!"&Kieli!$B$1&14) -> Coordinate (Longitude (W-E)) | N3: Confidence | O3: Changed columns | P3: Resolution

Sheet Modifications
A1: #NF-MODIFICATION-NAME | B1: #NF-MODIFICATION-INFO1 | C1: #NF-MODIFICATION-SPEED-PROFILES | D1: #NF-MODIFICATION-SPEED-FACTOR | E1: #NF-MODIFICATION-CHANGED-COLUMNS
A3: Name | B3: Info | C3: Applicable Profiles | D3: Speed Factor | E3: Changed columns

Sheet Areas
A1: #NF-AREA-MODIFICATION-NAME | B1: #NF-AREA-TL-LATITUDE | C1: #NF-AREA-TL-LONGITUDE | D1: #NF-AREA-BR-LATITUDE | E1: #NF-AREA-BR-LONGITUDE
A3: Modification Name | B3: Top Left Latitude (N-S) | C3: Top Left Longitude (W-E) | D3: Bottom Right Latitude (N-S) | E3: Bottom Right Longitude (W-E)

Sheet Kieli
A1: Kielivalinta (sarakkeen kirjain): | B1: b
A3: Suomi | B3: English | C3: Español
A4: Tilauksen tunniste / kuvaus | B4: Order ID / description | C4: Numero de identificación / descripción del orden
A5: Määrä (1. kapasiteettia) | B5: Amount (in units of capacity 1) | C5: Cantidad (en unidades de capacidad 1)
A6: Määrä (2. kapasiteettia) | B6: Amount (in units of capacity 2) | C6: Cantidad (en unidades de capacidad 2)
A7: Määrä (3. kapasiteettia) | B7: Amount (in units of capacity 3) | C7: Cantidad (en unidades de capacidad 3)
A8: Nouto | B8: Pickup | C8: Recogida
A9: Toimitus | B9: Delivery | C9: Entrega
A10: Osoite | B10: Address | C10: Dirección
A11: Postinro | B11: Postal code | C11: Código postal
A12: Paikkakunta | B12: City | C12: Ciudad
A13: Koordinaatti (leveys (P-E)) | B13: Coordinate (Latitude (N-S))
A14: Koordinaatti (pituus (L-I)) | B14: Coordinate (Longitude (W-E))
A15: Palveluaika (min) | B15: Service time (in minutes) | C15: Tiempo de servicio
A16: Aikaisintaan | B16: Start of time window | C16: Inicio de la ventana de tiempo
A17: Viimeistään | B17: End of time window | C17: Final de la ventana de tiempo
A18: Yhteensopimattomat ajoneuvotyypit | B18: Incompatible vehicle types | C18: Tipos de vehiculos incompatibles
A19: Ajoneuvon nimi / reknro | B19: Vehicle name / registration number | C19: Nombre de vehiculo / numero de registración
A20: Ajoneuvon tyyppi | B20: Type of vehicle | C20: Tipo de vehículo
A21: Kapasiteetti 1 | B21: Capacity 1 | C21: Capacidad 1
A22: Kapasiteetti 2 | B22: Capacity 2 | C22: Capacidad 2
A23: Kapasiteetti 3 | B23: Capacity 3 | C23: Capacidad 3
A24: Lähtöpaikka | B24: Start location | C24: Lugar inicial
A25: Paluupaikka | B25: End location | C25: Lugar final
A26: Ajoneuvo käytettävissä | B26: Vehicle availability | C26: Disponibilidad del vehiculo
... A29: Määrän tulee olla positiivinen kokonaisluku. | B29: The capacity needs to be a positive integer. | C29: La cantitad necesita ser entero positivo.
A30: Osoitteessa tulee olla mainittuna katu ja talon numero, esimerkiksi Kauppakatu 1. | B30: The address must have a street name and a house number, eg. Kauppakatu 1
A31: Postinumeron tulee olla viisinumeroinen. | B31: The postal code must have 5 digits. | C31: El código postal necesita tener cinco numeros.
A32: Kunta voi olla mitä vaan. | B32: The city can be whatever. | C32: La ciudad puede ser cualquiera.
A33: Palveluajan täytyy olla ei-negatiivinen kokonaisluku. | B33: The service time needs to be a non-negative integer. | C33: El tiempo de servicio debe ser un entero non-negativo.
A34: Aikaikkunan voi syöttää joko minuutteina nollakohdasta, kellonaikana tai päivämäärän ja kellonajan yhdistelmänä. Esitystapoja ei kuitenkaan saa yhdistää keskenään. | B34: The time window can be input as minutes from the "zero hour", as a time or as a combination of date and time. These presentations can not be combined. | C34: La ventana de tiempo tiene errores.
A35: Ajoneuvon tunniste | B35: Vehicle Id | C35: El Id del vehículo
A36: Noudon järjestysnumero | B36: Sequence number of pickup | C36: El número en el ordén de la recogida
A37: Toimituksen järjestysnumero | B37: Sequence number of delivery | C37: El número en el ordén de la entrega
A38: Lukossa? | B38: Is locked? | C38: ¿Fijado?
A39: Toteutunut noutoaika | B39: Actual time of pickup | C39: Fecha de recogida
A40: Toteutunut toimitusaika | B40: Actual time of delivery | C40: Fecha de entrega
A41: Pysähdysaika (min) | B41: Stopping time (in minutes) | C41: Tiempo de parada
A42: Ajoneuvon kiinteä kustannus (€) | B42: Fixed cost (€)
A43: Ajoneuvon kilometrikustannus (€) | B43: Cost € / km
A44: Ajoneuvon tuntikustannus (€) | B44: Cost € / hour
A45: Tilauksen tärkeysaste | B45: Task priority
A46: Maksimiajoaika (h) | B46: Maximal driving time (h)
A47: Maksimityöaika (h) | B47: Maximal working time (h)
A48: Yhteensopivat ajoneuvotyypit | B48: Compatible vehicle types
A49: Nopeuskerroin | B49: Speed coefficient
A50: Nopeusprofiili | B50: Speed profile
A51: Sijainti vaihdettavissa? | B51: Can be relocated?

Sheet Styles
A1: this is hyperlink | C1: odd column | E1: even column | G1: this is a header | I1: this data has changed
